BEGIN:VCALENDAR
VERSION:2.0
PRODID:-//Pukekohe Indian Sports Club - ECPv4.6.10//NONSGML v1.0//EN
CALSCALE:GREGORIAN
METHOD:PUBLISH
X-WR-CALNAME:Pukekohe Indian Sports Club
X-ORIGINAL-URL:http://www.pisc.co.nz
X-WR-CALDESC:Events for Pukekohe Indian Sports Club
BEGIN:VEVENT
DTSTART;TZID=UTC+12:20170701T170000
DTEND;TZID=UTC+12:20170701T233000
DTSTAMP:20180124T221200
CREATED:20170414T030001Z
LAST-MODIFIED:20170529T073914Z
UID:780-1498928400-1498951800@www.pisc.co.nz
SUMMARY:Rugby Night (All Blacks vs. Lions) Fundraiser
DESCRIPTION:Tickets NOW on sale!  \n  \n
URL:http://www.pisc.co.nz/event/rugby-evening-fundraiser/
END:VEVENT
END:VCALENDAR