BEGIN:VCALENDAR
VERSION:2.0
PRODID:-//Pukekohe Indian Sports Club - ECPv4.6.10//NONSGML v1.0//EN
CALSCALE:GREGORIAN
METHOD:PUBLISH
X-WR-CALNAME:Pukekohe Indian Sports Club
X-ORIGINAL-URL:http://www.pisc.co.nz
X-WR-CALDESC:Events for Pukekohe Indian Sports Club
BEGIN:VEVENT
DTSTART;TZID=UTC+12:20170603T120000
DTEND;TZID=UTC+12:20170605T170000
DTSTAMP:20180124T221141
CREATED:20170414T025850Z
LAST-MODIFIED:20170414T034356Z
UID:777-1496491200-1496682000@www.pisc.co.nz
SUMMARY:NZISA Queens Birthday Tournament
DESCRIPTION:Central Districts Indian Sports club are proudly hosting the NZISA Queens Birthday Tournament this year from Saturday 3rd June to Monday 5th June. PISC will be sending 2 Mens teams and a Ladies team. More details on the tournament to follow. \n
URL:http://www.pisc.co.nz/event/nzisa-queens-birthday-tournament-2/
END:VEVENT
END:VCALENDAR