BEGIN:VCALENDAR
VERSION:2.0
PRODID:-//Pukekohe Indian Sports Club - ECPv4.6.10//NONSGML v1.0//EN
CALSCALE:GREGORIAN
METHOD:PUBLISH
X-WR-CALNAME:Pukekohe Indian Sports Club
X-ORIGINAL-URL:http://www.pisc.co.nz
X-WR-CALDESC:Events for Pukekohe Indian Sports Club
BEGIN:VEVENT
DTSTART;VALUE=DATE:20170505
DTEND;VALUE=DATE:20170506
DTSTAMP:20180124T221058
CREATED:20170414T030334Z
LAST-MODIFIED:20170414T030334Z
UID:784-1493942400-1494028799@www.pisc.co.nz
SUMMARY:CMHA Junior hockey starts
DESCRIPTION:
URL:http://www.pisc.co.nz/event/cmha-junior-hockey-starts/
END:VEVENT
END:VCALENDAR